BEGIN:VCALENDAR
VERSION:2.0
PRODID:-// - ECPv6.9.0//NONSGML v1.0//EN
CALSCALE:GREGORIAN
METHOD:PUBLISH
X-ORIGINAL-URL:https://www.equipodeinnovacion.com
X-WR-CALDESC:Eventos para 
REFRESH-INTERVAL;VALUE=DURATION:PT1H
X-Robots-Tag:noindex
X-PUBLISHED-TTL:PT1H
BEGIN:VTIMEZONE
TZID:UTC
BEGIN:STANDARD
TZOFFSETFROM:+0000
TZOFFSETTO:+0000
TZNAME:UTC
DTSTART:20240101T000000
END:STANDARD
END:VTIMEZONE
BEGIN:VEVENT
DTSTART;TZID=UTC:20241211T080000
DTEND;TZID=UTC:20241211T170000
DTSTAMP:20260425T174301
CREATED:20241211T175014Z
LAST-MODIFIED:20241211T175020Z
UID:6719-1733904000-1733936400@www.equipodeinnovacion.com
SUMMARY:Sesión para profesionales de la salud: INNER7
DESCRIPTION:Sesión con el Dr. Ezequiel Luciano \nComplejo biomineral inner7
URL:https://www.equipodeinnovacion.com/event/sesion-para-profesionales-de-la-salud-inner7/
CATEGORIES:AgendaMédica
ATTACH;FMTTYPE=image/jpeg:https://www.equipodeinnovacion.com/wp-content/uploads/2024/12/IT_Ezequielapacitacion-para-MEDICOS_DISTRIBUIDORES_OK_.jpg
END:VEVENT
END:VCALENDAR