BEGIN:VCALENDAR
VERSION:2.0
PRODID:-// - ECPv6.9.0//NONSGML v1.0//EN
CALSCALE:GREGORIAN
METHOD:PUBLISH
X-ORIGINAL-URL:https://www.equipodeinnovacion.com
X-WR-CALDESC:Eventos para 
REFRESH-INTERVAL;VALUE=DURATION:PT1H
X-Robots-Tag:noindex
X-PUBLISHED-TTL:PT1H
BEGIN:VTIMEZONE
TZID:UTC
BEGIN:STANDARD
TZOFFSETFROM:+0000
TZOFFSETTO:+0000
TZNAME:UTC
DTSTART:20240101T000000
END:STANDARD
END:VTIMEZONE
BEGIN:VEVENT
DTSTART;TZID=UTC:20240917T200000
DTEND;TZID=UTC:20240917T210000
DTSTAMP:20260425T222623
CREATED:20240917T185149Z
LAST-MODIFIED:20240917T185853Z
UID:5472-1726603200-1726606800@www.equipodeinnovacion.com
SUMMARY:¿Cómo iniciar un arranque rápido?
DESCRIPTION:Como iniciar un arranque rápido para el personal de la salud con el Dr. David Alcántar \n \nhttps://us02web.zoom.us/j/2548137232?pwd=NlRnM1dYZk1PWXUwZGNXMUIzMWhmZz09
URL:https://www.equipodeinnovacion.com/event/como-iniciar-un-arranque-rapido/
CATEGORIES:AgendaMédica,Clientes,Distribuidores,PublicoEnGeneral
ATTACH;FMTTYPE=image/jpeg:https://www.equipodeinnovacion.com/wp-content/uploads/2024/09/Capacitacion-para-Distribuidores-prospectar-y-Arranque-a-Medicos-y-Prof-de-salud_BLUE.jpg
END:VEVENT
END:VCALENDAR