BEGIN:VCALENDAR
VERSION:2.0
PRODID:-// - ECPv6.9.0//NONSGML v1.0//EN
CALSCALE:GREGORIAN
METHOD:PUBLISH
X-ORIGINAL-URL:https://www.equipodeinnovacion.com
X-WR-CALDESC:Eventos para 
REFRESH-INTERVAL;VALUE=DURATION:PT1H
X-Robots-Tag:noindex
X-PUBLISHED-TTL:PT1H
BEGIN:VTIMEZONE
TZID:America/Chicago
BEGIN:DAYLIGHT
TZOFFSETFROM:-0600
TZOFFSETTO:-0500
TZNAME:CDT
DTSTART:20260308T080000
END:DAYLIGHT
BEGIN:STANDARD
TZOFFSETFROM:-0500
TZOFFSETTO:-0600
TZNAME:CST
DTSTART:20261101T070000
END:STANDARD
END:VTIMEZONE
BEGIN:VEVENT
DTSTART;TZID=America/Chicago:20260219T120000
DTEND;TZID=America/Chicago:20260219T130000
DTSTAMP:20260425T002811
CREATED:20260219T042409Z
LAST-MODIFIED:20260219T042536Z
UID:7132-1771502400-1771506000@www.equipodeinnovacion.com
SUMMARY:Presentación Zinzino para todos los perfiles
DESCRIPTION:Está es la liga o link de las sesiones de este mes de febrero 2026.\n🔗 Acceso por Zoom:\nhttps://bit.ly/4tEsj9t\nCódigo: 123456 \n(o escanea el QR de la imagen)
URL:https://www.equipodeinnovacion.com/event/presentacion-zinzino-para-todos-los-perfiles/
CATEGORIES:PublicoEnGeneral
END:VEVENT
END:VCALENDAR