BEGIN:VCALENDAR
VERSION:2.0
PRODID:-// - ECPv6.9.0//NONSGML v1.0//EN
CALSCALE:GREGORIAN
METHOD:PUBLISH
X-ORIGINAL-URL:https://www.equipodeinnovacion.com
X-WR-CALDESC:Eventos para 
REFRESH-INTERVAL;VALUE=DURATION:PT1H
X-Robots-Tag:noindex
X-PUBLISHED-TTL:PT1H
BEGIN:VTIMEZONE
TZID:America/Chicago
BEGIN:DAYLIGHT
TZOFFSETFROM:-0600
TZOFFSETTO:-0500
TZNAME:CDT
DTSTART:20240310T080000
END:DAYLIGHT
BEGIN:STANDARD
TZOFFSETFROM:-0500
TZOFFSETTO:-0600
TZNAME:CST
DTSTART:20241103T070000
END:STANDARD
BEGIN:DAYLIGHT
TZOFFSETFROM:-0600
TZOFFSETTO:-0500
TZNAME:CDT
DTSTART:20250309T080000
END:DAYLIGHT
BEGIN:STANDARD
TZOFFSETFROM:-0500
TZOFFSETTO:-0600
TZNAME:CST
DTSTART:20251102T070000
END:STANDARD
BEGIN:DAYLIGHT
TZOFFSETFROM:-0600
TZOFFSETTO:-0500
TZNAME:CDT
DTSTART:20260308T080000
END:DAYLIGHT
BEGIN:STANDARD
TZOFFSETFROM:-0500
TZOFFSETTO:-0600
TZNAME:CST
DTSTART:20261101T070000
END:STANDARD
TZID:America/Mexico_City
BEGIN:STANDARD
TZOFFSETFROM:-0600
TZOFFSETTO:-0600
TZNAME:CST
DTSTART:20240101T000000
END:STANDARD
TZID:UTC
BEGIN:STANDARD
TZOFFSETFROM:+0000
TZOFFSETTO:+0000
TZNAME:UTC
DTSTART:20240101T000000
END:STANDARD
TZID:America/Lima
BEGIN:STANDARD
TZOFFSETFROM:-0500
TZOFFSETTO:-0500
TZNAME:-05
DTSTART:20240101T000000
END:STANDARD
END:VTIMEZONE
BEGIN:VEVENT
DTSTART;TZID=America/Chicago:20260218T100000
DTEND;TZID=America/Chicago:20260218T110000
DTSTAMP:20260424T175853
CREATED:20260217T055218Z
LAST-MODIFIED:20260217T055422Z
UID:7126-1771408800-1771412400@www.equipodeinnovacion.com
SUMMARY:Oportunidad Zinzino-emprendedores
DESCRIPTION:Está es la liga o link de las sesiones de este mes de febrero 2026.\n🔗 Acceso por Zoom:\nhttps://bit.ly/4tEsj9t\nCódigo: 123456 \n 
URL:https://www.equipodeinnovacion.com/event/oportunidad-zinzino-emprendedores/
END:VEVENT
BEGIN:VEVENT
DTSTART;TZID=America/Chicago:20260217T180000
DTEND;TZID=America/Chicago:20260217T180000
DTSTAMP:20260424T175853
CREATED:20260217T055106Z
LAST-MODIFIED:20260217T055106Z
UID:7124-1771351200-1771351200@www.equipodeinnovacion.com
SUMMARY:Productos Sanki-mayor Enfoque en enfermedad
DESCRIPTION:Está es la liga o link de las sesiones de este mes de febrero 2026.\n🔗 Acceso por Zoom: \nhttps://bit.ly/4tEsj9t \nCódigo: 123456
URL:https://www.equipodeinnovacion.com/event/productos-sanki-mayor-enfoque-en-enfermedad/
CATEGORIES:AgendaMédica,Clientes,Distribuidores,PublicoEnGeneral
END:VEVENT
BEGIN:VEVENT
DTSTART;TZID=America/Chicago:20260217T120000
DTEND;TZID=America/Chicago:20260217T143000
DTSTAMP:20260424T175853
CREATED:20260217T054058Z
LAST-MODIFIED:20260217T054423Z
UID:7118-1771329600-1771338600@www.equipodeinnovacion.com
SUMMARY:Productos Sanki-Mayor Bienestar & Anti aging
DESCRIPTION:Está es la liga o link de las sesiones de este mes de febrero 2026.\n🔗 Acceso por Zoom:\nhttps://bit.ly/4tEsj9t\nCódigo: 123456  \n(o escanea el QR de la imagen)
URL:https://www.equipodeinnovacion.com/event/productos-sanki-mayor-bienestar-anti-aging/
CATEGORIES:AgendaMédica,Clientes,Distribuidores,PublicoEnGeneral
END:VEVENT
BEGIN:VEVENT
DTSTART;TZID=America/Mexico_City:20250111T090000
DTEND;TZID=America/Mexico_City:20250111T130000
DTSTAMP:20260424T175853
CREATED:20250104T204355Z
LAST-MODIFIED:20250104T204355Z
UID:6768-1736586000-1736600400@www.equipodeinnovacion.com
SUMMARY:KICK OFF
DESCRIPTION:Arranca el año de manera unica y explosiva !!!!
URL:https://www.equipodeinnovacion.com/event/kick-off/
ATTACH;FMTTYPE=image/jpeg:https://www.equipodeinnovacion.com/wp-content/uploads/2025/01/472313848_918308807140306_5029314176830472899_n.jpg
END:VEVENT
BEGIN:VEVENT
DTSTART;TZID=America/Mexico_City:20250108T190000
DTEND;TZID=America/Mexico_City:20250108T190000
DTSTAMP:20260424T175853
CREATED:20250104T204441Z
LAST-MODIFIED:20250104T204441Z
UID:6770-1736362800-1736362800@www.equipodeinnovacion.com
SUMMARY:Presentación de oportunidad
DESCRIPTION:Presentación de oportunidad
URL:https://www.equipodeinnovacion.com/event/presentacion-de-oportunidad-5/
END:VEVENT
BEGIN:VEVENT
DTSTART;TZID=UTC:20250104T080000
DTEND;TZID=UTC:20250104T170000
DTSTAMP:20260424T175853
CREATED:20250104T204553Z
LAST-MODIFIED:20250104T204706Z
UID:6772-1735977600-1736010000@www.equipodeinnovacion.com
SUMMARY:Tu enfoque para el éxito
DESCRIPTION:Comienza el año con claridad y motivación. \n \n 𝐋𝐢𝐧𝐤 𝐝𝐞 𝐜𝐨𝐧𝐞𝐱𝐢𝐨́𝐧: https://bit.ly/Sesiones_Globales_Sanki
URL:https://www.equipodeinnovacion.com/event/tu-enfoque-para-el-exito/
CATEGORIES:Distribuidores,PublicoEnGeneral
ATTACH;FMTTYPE=image/jpeg:https://www.equipodeinnovacion.com/wp-content/uploads/2025/01/472209213_918156160488904_2952283602493666985_n.jpg
END:VEVENT
BEGIN:VEVENT
DTSTART;TZID=America/Mexico_City:20241230T190000
DTEND;TZID=America/Mexico_City:20241230T190000
DTSTAMP:20260424T175853
CREATED:20241227T193900Z
LAST-MODIFIED:20241227T194251Z
UID:6742-1735585200-1735585200@www.equipodeinnovacion.com
SUMMARY:¡DUPLICA TUS RESULTADOS! Bases esenciales para duplicar con tu equipo
DESCRIPTION:Jessica Verónica Vargas Vara \, Líder Plata de Sanki Perú\, \n \nhttps://bit.ly/Sesiones_Globales_Sanki \n 
URL:https://www.equipodeinnovacion.com/event/duplica-tus-resultados-bases-esenciales-para-duplicar-con-tu-equipo/
ATTACH;FMTTYPE=image/jpeg:https://www.equipodeinnovacion.com/wp-content/uploads/2024/12/jessi.jpg
END:VEVENT
BEGIN:VEVENT
DTSTART;TZID=America/Mexico_City:20241228T090000
DTEND;TZID=America/Mexico_City:20241228T100000
DTSTAMP:20260424T175853
CREATED:20241227T193656Z
LAST-MODIFIED:20241227T194415Z
UID:6738-1735376400-1735380000@www.equipodeinnovacion.com
SUMMARY:𝐃𝐞𝐬𝐜𝐮𝐛𝐫𝐞 𝐞𝐥 𝐩𝐨𝐝𝐞𝐫 𝐝𝐞 𝐈𝐍𝐍𝐄𝐑𝟕! 𝐒𝐮 𝐂𝐢𝐞𝐧𝐜𝐢𝐚\, 𝐁𝐞𝐧𝐞𝐟𝐢𝐜𝐢𝐨𝐬 𝐲 𝐂𝐨𝐧𝐬𝐞𝐣𝐨𝐬 𝐩𝐚𝐫𝐚 𝐬𝐮 𝐂𝐨𝐧𝐬𝐮𝐦𝐨
DESCRIPTION:https://bit.ly/Sesiones_Nutricion_Sanki \n \n 
URL:https://www.equipodeinnovacion.com/event/%f0%9d%90%83%f0%9d%90%9e%f0%9d%90%ac%f0%9d%90%9c%f0%9d%90%ae%f0%9d%90%9b%f0%9d%90%ab%f0%9d%90%9e-%f0%9d%90%9e%f0%9d%90%a5-%f0%9d%90%a9%f0%9d%90%a8%f0%9d%90%9d%f0%9d%90%9e%f0%9d%90%ab-%f0%9d%90%9d/
ATTACH;FMTTYPE=image/jpeg:https://www.equipodeinnovacion.com/wp-content/uploads/2024/12/inner-1.jpg
END:VEVENT
BEGIN:VEVENT
DTSTART;TZID=America/Mexico_City:20241218T190000
DTEND;TZID=America/Mexico_City:20241218T200000
DTSTAMP:20260424T175853
CREATED:20241216T184646Z
LAST-MODIFIED:20241216T185053Z
UID:6725-1734548400-1734552000@www.equipodeinnovacion.com
SUMMARY:Presentación de oportunidad
DESCRIPTION:Presentación de oportunidad
URL:https://www.equipodeinnovacion.com/event/presentacion-de-oportunidad-4/
END:VEVENT
BEGIN:VEVENT
DTSTART;TZID=America/Mexico_City:20241216T190000
DTEND;TZID=America/Mexico_City:20241216T190000
DTSTAMP:20260424T175853
CREATED:20241216T184623Z
LAST-MODIFIED:20241216T190034Z
UID:6722-1734375600-1734375600@www.equipodeinnovacion.com
SUMMARY:Capacitación cierres y seguimiento con Gustavo Guzman
DESCRIPTION:Capacitación cierres y seguimiento con Gustavo Guzman \n \nhttps://bit.ly/Sesiones_Globales_Sanki
URL:https://www.equipodeinnovacion.com/event/capacitacion-cierres-y-seguimiento-con-gustavo-guzman/
END:VEVENT
BEGIN:VEVENT
DTSTART;TZID=America/Mexico_City:20241211T190000
DTEND;TZID=America/Mexico_City:20241211T200000
DTSTAMP:20260424T175853
CREATED:20241207T033313Z
LAST-MODIFIED:20241207T033313Z
UID:6710-1733943600-1733947200@www.equipodeinnovacion.com
SUMMARY:Plan de ganancias con José Luis Quispe
DESCRIPTION:Capacitación : Plan de ganancias con Jose Luis Quispe \nhttps://bit.ly/Sesiones_Globales_Sanki
URL:https://www.equipodeinnovacion.com/event/plan-de-ganancias-con-jose-luis-quispe/
ATTACH;FMTTYPE=image/jpeg:https://www.equipodeinnovacion.com/wp-content/uploads/2024/12/dic11.jpg
END:VEVENT
BEGIN:VEVENT
DTSTART;TZID=UTC:20241211T080000
DTEND;TZID=UTC:20241211T170000
DTSTAMP:20260424T175853
CREATED:20241211T175014Z
LAST-MODIFIED:20241211T175020Z
UID:6719-1733904000-1733936400@www.equipodeinnovacion.com
SUMMARY:Sesión para profesionales de la salud: INNER7
DESCRIPTION:Sesión con el Dr. Ezequiel Luciano \nComplejo biomineral inner7
URL:https://www.equipodeinnovacion.com/event/sesion-para-profesionales-de-la-salud-inner7/
CATEGORIES:AgendaMédica
ATTACH;FMTTYPE=image/jpeg:https://www.equipodeinnovacion.com/wp-content/uploads/2024/12/IT_Ezequielapacitacion-para-MEDICOS_DISTRIBUIDORES_OK_.jpg
END:VEVENT
BEGIN:VEVENT
DTSTART;TZID=America/Mexico_City:20241209T190000
DTEND;TZID=America/Mexico_City:20241209T200000
DTSTAMP:20260424T175853
CREATED:20241207T033050Z
LAST-MODIFIED:20241207T033050Z
UID:6708-1733770800-1733774400@www.equipodeinnovacion.com
SUMMARY:Cierres que conquistan con Adriana Ramírez
DESCRIPTION:Cierres que conquistan \nhttps://bit.ly/Sesiones_Globales_Sanki
URL:https://www.equipodeinnovacion.com/event/cierres-que-conquistan-con-adriana-ramirez/
ATTACH;FMTTYPE=image/jpeg:https://www.equipodeinnovacion.com/wp-content/uploads/2024/12/dic09.jpg
END:VEVENT
BEGIN:VEVENT
DTSTART;TZID=America/Mexico_City:20241207T070000
DTEND;TZID=America/Mexico_City:20241207T090000
DTSTAMP:20260424T175853
CREATED:20241207T032814Z
LAST-MODIFIED:20241207T032814Z
UID:6703-1733554800-1733562000@www.equipodeinnovacion.com
SUMMARY:Sesión de nutrición : Hasaki
DESCRIPTION:Sesión de nutrición \nhttps://bit.ly/Sesiones_Nutricion_Sanki
URL:https://www.equipodeinnovacion.com/event/sesion-de-nutricion-hasaki/
ATTACH;FMTTYPE=image/jpeg:https://www.equipodeinnovacion.com/wp-content/uploads/2024/12/nutri.jpg
END:VEVENT
BEGIN:VEVENT
DTSTART;TZID=America/Mexico_City:20241204T190000
DTEND;TZID=America/Mexico_City:20241204T190000
DTSTAMP:20260424T175853
CREATED:20241130T174105Z
LAST-MODIFIED:20241202T174723Z
UID:6500-1733338800-1733338800@www.equipodeinnovacion.com
SUMMARY:Presentación de oportunidad
DESCRIPTION:Presentación de oportunidad con Gabriela Cano \nhttps://bit.ly/Sesiones_Globales_Sanki
URL:https://www.equipodeinnovacion.com/event/presentacion-de-oportunidad-3/
ATTACH;FMTTYPE=image/jpeg:https://www.equipodeinnovacion.com/wp-content/uploads/2024/11/468960740_895551289416058_794122595312681772_n.jpg
END:VEVENT
BEGIN:VEVENT
DTSTART;TZID=America/Mexico_City:20241202T190000
DTEND;TZID=America/Mexico_City:20241202T200000
DTSTAMP:20260424T175853
CREATED:20241130T173835Z
LAST-MODIFIED:20241202T174751Z
UID:6497-1733166000-1733169600@www.equipodeinnovacion.com
SUMMARY:La importancia de presentar
DESCRIPTION:La importancia de presentar. Estrategias clave y buenas prácticas \nhttps://bit.ly/Sesiones_Globales_Sanki
URL:https://www.equipodeinnovacion.com/event/la-importancia-de-presentar/
ATTACH;FMTTYPE=image/jpeg:https://www.equipodeinnovacion.com/wp-content/uploads/2024/11/468670772_894869376150916_195673776162487242_n.jpg
END:VEVENT
BEGIN:VEVENT
DTSTART;TZID=UTC:20241130T090000
DTEND;TZID=UTC:20241130T170000
DTSTAMP:20260424T175853
CREATED:20241202T192321Z
LAST-MODIFIED:20241202T192321Z
UID:6508-1732957200-1732986000@www.equipodeinnovacion.com
SUMMARY:Sesión de salud\, inner 7 con Victor Manuel Abad
DESCRIPTION:
URL:https://www.equipodeinnovacion.com/event/sesion-de-salud-inner-7-con-victor-manuel-abad/
ATTACH;FMTTYPE=image/jpeg:https://www.equipodeinnovacion.com/wp-content/uploads/2024/11/468769063_894817249489462_5316978706082686340_n.jpg
END:VEVENT
BEGIN:VEVENT
DTSTART;TZID=UTC:20241030T200000
DTEND;TZID=UTC:20241030T210000
DTSTAMP:20260424T175853
CREATED:20241028T171430Z
LAST-MODIFIED:20241028T171430Z
UID:5646-1730318400-1730322000@www.equipodeinnovacion.com
SUMMARY:Sesión médica con el Nutriólogo Gonzalo Herrera
DESCRIPTION:CONOCE LA INFORMACIÓN BÁSICA DEL INGREDIENTE ACTIVO BOVIA DEL LABORATORIO SANKI-MAYOR \n🩺Ponente: \nLN GONZALO HERRERA DAGER \nMédico Cirujano\, especialista en medicina regenerativa y nutrición metabólica\, certificado en biotecnología y nanomedicina. Diplomado y master en gerencia de hospitales y catedra en nutrición humana. \n  \nhttps://us06web.zoom.us/j/89397764390
URL:https://www.equipodeinnovacion.com/event/sesion-medica-con-el-nutriologo-gonzalo-herrera/
CATEGORIES:AgendaMédica
ATTACH;FMTTYPE=image/jpeg:https://www.equipodeinnovacion.com/wp-content/uploads/2024/10/Capacitacion-para-MEDICOS_DISTRIBUIDORES_OK-1-persona.jpg
END:VEVENT
BEGIN:VEVENT
DTSTART;TZID=UTC:20241016T200000
DTEND;TZID=UTC:20241016T210000
DTSTAMP:20260424T175853
CREATED:20241013T210826Z
LAST-MODIFIED:20241013T210837Z
UID:5641-1729108800-1729112400@www.equipodeinnovacion.com
SUMMARY:Sesión médica con el Dr. Ezequiel Luciano
DESCRIPTION:CONOCE LA INFORMACIÓN BÁSICA DEL COMPLEJO BIOMINERAL INNER7 DEL LABORATORIO SANKI-MAYOR \n🩺Ponente: \nDR. EZEQUIEL LUCIANO MÉNDEZ \nMédico Cirujano\, especialista en medicina regenerativa y nutrición metabólica\, certificado en biotecnología y nanomedicina. Diplomado y master en gerencia de hospitales y catedra en nutrición humana. \n  \nhttps://us06web.zoom.us/j/89397764390
URL:https://www.equipodeinnovacion.com/event/sesion-medica-con-el-dr-ezequiel-luciano/
CATEGORIES:AgendaMédica
ATTACH;FMTTYPE=image/jpeg:https://www.equipodeinnovacion.com/wp-content/uploads/2024/10/Capacitacion-para-MEDICOS_DISTRIBUIDORES_OK-1-persona.jpg
END:VEVENT
BEGIN:VEVENT
DTSTART;TZID=America/Chicago:20241008T200000
DTEND;TZID=America/Chicago:20241008T213000
DTSTAMP:20260424T175853
CREATED:20241007T022058Z
LAST-MODIFIED:20241008T035513Z
UID:5620-1728417600-1728423000@www.equipodeinnovacion.com
SUMMARY:Sesión informativa con el Dr. David Alcántar
DESCRIPTION:Convoca a ratificar una verdadera oportunidad de tendencia\, estrategias y un apalancamiento para un negocio efectivo! \n  \n \n  \nhttps://us02web.zoom.us/j/89511835114?pwd=6gDqOmCRcJE3rRoqoqMGmLmXHhAjxZ.1
URL:https://www.equipodeinnovacion.com/event/sesion-informativa-con-el-dr-david-alcantar/
ATTACH;FMTTYPE=image/jpeg:https://www.equipodeinnovacion.com/wp-content/uploads/2024/10/Capacitacion-para-Distribuidores-prospectar-y-Arranque-a-Medicos-y-Prof-de-salud_BLUE.jpg
END:VEVENT
BEGIN:VEVENT
DTSTART;TZID=UTC:20241002T200000
DTEND;TZID=UTC:20241002T213000
DTSTAMP:20260424T175853
CREATED:20240917T185422Z
LAST-MODIFIED:20241001T042144Z
UID:5475-1727899200-1727904600@www.equipodeinnovacion.com
SUMMARY:Información básica sobre el Oxylia Night Reset
DESCRIPTION:El Dr. Arístides Guillen  nos dará la información básica del ingrediente activo Oxylia\, sesión exclusiva para personal de la salud \n  \n \n  \nhttps://us06web.zoom.us/j/89397764390
URL:https://www.equipodeinnovacion.com/event/informacion-basica-sobre-el-orisod-enzyme/
CATEGORIES:AgendaMédica
ATTACH;FMTTYPE=image/jpeg:https://www.equipodeinnovacion.com/wp-content/uploads/2024/10/IT_Capacitacion-para-MEDICOS_DISTRIBUIDORES_OK_.jpg
END:VEVENT
BEGIN:VEVENT
DTSTART;TZID=UTC:20240917T200000
DTEND;TZID=UTC:20240917T210000
DTSTAMP:20260424T175853
CREATED:20240917T185149Z
LAST-MODIFIED:20240917T185853Z
UID:5472-1726603200-1726606800@www.equipodeinnovacion.com
SUMMARY:¿Cómo iniciar un arranque rápido?
DESCRIPTION:Como iniciar un arranque rápido para el personal de la salud con el Dr. David Alcántar \n \nhttps://us02web.zoom.us/j/2548137232?pwd=NlRnM1dYZk1PWXUwZGNXMUIzMWhmZz09
URL:https://www.equipodeinnovacion.com/event/como-iniciar-un-arranque-rapido/
CATEGORIES:AgendaMédica,Clientes,Distribuidores,PublicoEnGeneral
ATTACH;FMTTYPE=image/jpeg:https://www.equipodeinnovacion.com/wp-content/uploads/2024/09/Capacitacion-para-Distribuidores-prospectar-y-Arranque-a-Medicos-y-Prof-de-salud_BLUE.jpg
END:VEVENT
BEGIN:VEVENT
DTSTART;TZID=America/Lima:20240325T200000
DTEND;TZID=America/Lima:20240325T210000
DTSTAMP:20260424T175853
CREATED:20240322T193408Z
LAST-MODIFIED:20240322T193408Z
UID:5183-1711396800-1711400400@www.equipodeinnovacion.com
SUMMARY:CREACIÓN DE TUS PERFILES EN REDES SOCIALES - SESIÓN C
DESCRIPTION:CREACIÓN DE TUS PERFILES EN REDES SOCIALES Y OPTIMIZACIÓN \nTe invitamos a nuestra sesión online Creación de tus Perfiles en Redes Sociales y Optimización\, que se llevará a cabo el lunes 25 de marzo. Descubre cómo construir perfiles impactantes y optimizados en redes sociales que te ayuden a destacar y atraer a tu audiencia ideal. En esta sesión\, aprenderás estrategias efectivas para diseñar perfiles atractivos en plataformas como Facebook\, Instagram\, LinkedIn y más. Desde la elección de imágenes hasta la redacción de biografías convincentes\, descubre cómo maximizar tu impacto en línea y alcanzar tus objetivos de manera más efectiva. \n📅 Fecha: Lunes\, 25 de marzo \n⏰ Hora:\n🇺🇸 6:00 pm (PST)\n🇲🇽 7:00 pm (MT)\n🇨🇴 8:00 pm (CST)\n🇵🇪 8:00 pm (EST) \n🔗 Enlace de conexión:https://zoom.us/j/98948939375 \n¡Prepárate para una experiencia transformadora\, no te lo pierdas! 🚀
URL:https://www.equipodeinnovacion.com/event/creacion-de-tus-perfiles-en-redes-sociales-sesion-c/
END:VEVENT
BEGIN:VEVENT
DTSTART;TZID=America/Chicago:20240325T190000
DTEND;TZID=America/Chicago:20240325T190000
DTSTAMP:20260424T175853
CREATED:20240325T222554Z
LAST-MODIFIED:20240325T222554Z
UID:5188-1711393200-1711393200@www.equipodeinnovacion.com
SUMMARY:desarrolla tu marca personal
DESCRIPTION:🔗 Enlace de conexión: https://zoom.us/j/98948939375
URL:https://www.equipodeinnovacion.com/event/desarrolla-tu-marca-personal/
END:VEVENT
BEGIN:VEVENT
DTSTART;TZID=America/Mexico_City:20240320T190000
DTEND;TZID=America/Mexico_City:20240320T200000
DTSTAMP:20260424T175853
CREATED:20240322T193159Z
LAST-MODIFIED:20240322T193159Z
UID:5181-1710961200-1710964800@www.equipodeinnovacion.com
SUMMARY:PRESENTACIÓN DE NEGOCIOS GLOBAL - SC
DESCRIPTION:¡UN NEGOCIO INTELIGENTE! \nConvoca a tus invitados a nuestra Presentación de oportunidad. Descubre el potencial ilimitado de nuestro negocio\, establece conexiones estratégicas y cierra con determinación. \n🔸 Invitadas especiales:\nAndrea Torres\, Líder Plata de Sanki Colombia y Verónica Acosta\, Oro de Sanki Perú. \nHora:\n🇺🇸6:00 pm (PST)\n🇲🇽7:00 pm (MT)\n🇨🇴8:00 pm (CST)\n🇵🇪8:00 pm (EST) \n✅ Link de conexión:https://us06web.zoom.us/j/98948939375
URL:https://www.equipodeinnovacion.com/event/presentacion-de-negocios-global-sc/
END:VEVENT
BEGIN:VEVENT
DTSTART;TZID=America/Lima:20240319T190000
DTEND;TZID=America/Lima:20240319T210000
DTSTAMP:20260424T175853
CREATED:20240322T191515Z
LAST-MODIFIED:20240322T191515Z
UID:5164-1710874800-1710882000@www.equipodeinnovacion.com
SUMMARY:UNA OPORTUNIDAD PARA TI MUJER - RAKEL AMAYA Y SANDY TOVILLA
DESCRIPTION:Sesión Especial de Oportunidad PRESENCIAL! \nTe esperamos este Martes 19 de Marzo \nDirección: Av. Javier Prado Este\, Oficina 1403\, piso 14\, Edificio Empresarial TEKTON \nHorario: \nRegistro – 6:30PM \nInicio y Cierre – 7:00PM – 9:00PM \n¡DESCUBRE LA OPORTUNIDAD QUE HA TRANSFORMADO LA VIDA DE MILES DE PERSONAS!
URL:https://www.equipodeinnovacion.com/event/una-oportunidad-para-ti-mujer-rakel-amaya-y-sandy-tovilla/
ATTACH;FMTTYPE=image/png:https://www.equipodeinnovacion.com/wp-content/uploads/2024/03/unaoportunidadparatimujer-rakelamaya-sandytovilla.png
END:VEVENT
BEGIN:VEVENT
DTSTART;TZID=America/Lima:20240318T190000
DTEND;TZID=America/Lima:20240318T210000
DTSTAMP:20260424T175853
CREATED:20240322T191016Z
LAST-MODIFIED:20240322T191016Z
UID:5161-1710788400-1710795600@www.equipodeinnovacion.com
SUMMARY:NO ERES TÚ\, SON TUS HORMONAS - DAVID ALCÁNTAR
DESCRIPTION:Sesión Especial Femenina PRESENCIAL! \nTe esperamos este Lunes 18 de Marzo en LIMA \nDirección: Av. Javier Prado Este\, Oficina 1403\, piso 14\, Edificio Empresarial TEKTON \nHorario: \nRegistro – 6:30PM \nInicio y Cierre – 7:00PM – 9:00PM \n¡CONOCE CÓMO TENER UN SALUD ÓPTIMA!
URL:https://www.equipodeinnovacion.com/event/no-eres-tu-son-tus-hormonas-david-alcantar/
ATTACH;FMTTYPE=image/jpeg:https://www.equipodeinnovacion.com/wp-content/uploads/2024/03/noerestusontushormonas-davidalcantar.jpeg
END:VEVENT
BEGIN:VEVENT
DTSTART;TZID=America/Mexico_City:20240318T190000
DTEND;TZID=America/Mexico_City:20240318T200000
DTSTAMP:20260424T175853
CREATED:20240322T193005Z
LAST-MODIFIED:20240322T193005Z
UID:5179-1710788400-1710792000@www.equipodeinnovacion.com
SUMMARY:CÓMO PERSONALIZAR TU MENSAJE DE VENTAS
DESCRIPTION:CÓMO PERSONALIZAR TU MENSAJE DE VENTAS \nÚnete a nosotros en nuestra sesión online Cómo Personalizar tu Mensaje de Ventas\, que se llevará a cabo HOY lunes 18 de marzo. Descubre las estrategias clave para adaptar tu mensaje de ventas a las necesidades y deseos específicos de tus clientes. En esta sesión\, aprenderás técnicas efectivas para conectar con tu audiencia\, transmitir valor de manera convincente y cerrar más ventas. \n🗓️ Fecha: Lunes 18 de marzo de 2024. \n⏰ Hora:\n🇺🇸 6:00 pm (PST)\n🇲🇽 7:00 pm (MT)\n🇨🇴 8:00 pm (CST)\n🇵🇪 8:00 pm (EST) \n🔗 Enlace de conexión: https://zoom.us/j/98948939375 \nReserva tu lugar ahora y descubre cómo puedes destacarte en un mercado saturado al adaptar tu enfoque de ventas para satisfacer las necesidades únicas de tus clientes. ¡No te lo pierdas!
URL:https://www.equipodeinnovacion.com/event/como-personalizar-tu-mensaje-de-ventas/
END:VEVENT
BEGIN:VEVENT
DTSTART;TZID=UTC:20240316T090000
DTEND;TZID=UTC:20240316T170000
DTSTAMP:20260424T175853
CREATED:20240226T161425Z
LAST-MODIFIED:20240226T161425Z
UID:5077-1710579600-1710608400@www.equipodeinnovacion.com
SUMMARY:Evolution Tour LIMA
DESCRIPTION:LIMA
URL:https://www.equipodeinnovacion.com/event/evolution-tour-lima/
ATTACH;FMTTYPE=image/jpeg:https://www.equipodeinnovacion.com/wp-content/uploads/2024/02/16.jpg
END:VEVENT
BEGIN:VEVENT
DTSTART;TZID=America/Lima:20240316T090000
DTEND;TZID=America/Lima:20240316T110000
DTSTAMP:20260424T175853
CREATED:20240322T192408Z
LAST-MODIFIED:20240322T192408Z
UID:5171-1710579600-1710586800@www.equipodeinnovacion.com
SUMMARY:SEMINARIO DE LIDERAZGO Y SANKI EVOLUTION
DESCRIPTION:SANKI EVOLUTION\, EL FUTURO DE LA LONGEVIDAD EN TUS MANOS ¡PERÚ TENEMOS EXCELENTES NOTICIAS PARA TI!_ \nTe informamos que tanto el Seminario de Liderazgo como el Sanki Evolution se realizarán en el Hotel Nobility Miraflores. No necesitarás desplazarte a diferentes lugares para asistir a los dos eventos. Organiza tu horario y únete a nosotros. Te esperamos con entusiasmo\, recuerda que estos espacios te brindarán las herramientas y la visión para potencializar tu negocio y alcanzar tus metas personales y profesionales. 🚀🌟 \n📍 Nuevo lugar: Av. Republica de Panama 6461\, Miraflores.\nFecha: 16 DE MARZO\nHora: 9:00 a.m. \n¡Tienes que estar ahí\, juntos transformaremos vidas!
URL:https://www.equipodeinnovacion.com/event/seminario-de-liderazgo-y-sanki-evolution/
LOCATION:HOTEL NOBILITY\, AV REPUBLICA DE PANAMA 6461\, MIRAFLORES\, LIMA\, Perú
ATTACH;FMTTYPE=image/jpeg:https://www.equipodeinnovacion.com/wp-content/uploads/2024/03/seminariodeliderazgoysankievolution-hisusej.jpeg
END:VEVENT
END:VCALENDAR