BEGIN:VCALENDAR
VERSION:2.0
PRODID:-// - ECPv6.9.0//NONSGML v1.0//EN
CALSCALE:GREGORIAN
METHOD:PUBLISH
X-ORIGINAL-URL:https://www.equipodeinnovacion.com
X-WR-CALDESC:Eventos para 
REFRESH-INTERVAL;VALUE=DURATION:PT1H
X-Robots-Tag:noindex
X-PUBLISHED-TTL:PT1H
BEGIN:VTIMEZONE
TZID:America/Lima
BEGIN:STANDARD
TZOFFSETFROM:-0500
TZOFFSETTO:-0500
TZNAME:-05
DTSTART:20230101T000000
END:STANDARD
TZID:UTC
BEGIN:STANDARD
TZOFFSETFROM:+0000
TZOFFSETTO:+0000
TZNAME:UTC
DTSTART:20230101T000000
END:STANDARD
TZID:America/Mexico_City
BEGIN:STANDARD
TZOFFSETFROM:-0600
TZOFFSETTO:-0600
TZNAME:CST
DTSTART:20230101T000000
END:STANDARD
END:VTIMEZONE
BEGIN:VEVENT
DTSTART;TZID=America/Lima:20231214T200000
DTEND;TZID=America/Lima:20231214T210000
DTSTAMP:20260425T014655
CREATED:20231214T201540Z
LAST-MODIFIED:20231214T201632Z
UID:4919-1702584000-1702587600@www.equipodeinnovacion.com
SUMMARY:GRAN CIERRE DE AÑO 2023
DESCRIPTION:¡Gran Cierre de Año 2023! Conéctate a una Sesión Inolvidable \n¡Únete a nosotros ESTE jueves 14 de diciembre para celebrar juntos un cierre de año excepcional en nuestra sesión virtual! Contaremos con la presencia de invitados especiales como Jesús Trejo\, Vicepresidente Comercial de Sanki Global; Angélica Puentes\, COO y Country Manager de Sanki Colombia y Perú; Gerardo del Castillo\, Líder Embajador y Distinguido Haori; y David Alcántar Líder Triple Diamante de Sanki México. No te pierdas este evento cargado de emociones\, logros y grandes momentos. \nLink de conexión: https://us06web.zoom.us/j/87186684255 \n¡Te esperamos! 🎉🌟 \n 
URL:https://www.equipodeinnovacion.com/event/gran-cierre-2023/
ATTACH;FMTTYPE=image/jpeg:https://www.equipodeinnovacion.com/wp-content/uploads/2023/12/GRAN-CIERRE-DE-ANO-2023.jpeg
END:VEVENT
BEGIN:VEVENT
DTSTART;TZID=America/Lima:20231214T163000
DTEND;TZID=America/Lima:20231214T200000
DTSTAMP:20260425T014655
CREATED:20231214T200408Z
LAST-MODIFIED:20231214T200408Z
UID:4913-1702571400-1702584000@www.equipodeinnovacion.com
SUMMARY:GIRA ESPECIAL - TRUJILLO
DESCRIPTION:✨ ¡ATENCIÓN TRUJILLO! ✨ \nÚnete a la celebración y la inspiración mientras planificamos juntos los éxitos del próximo año. Te esperamos HOY en nuestra Gira Especial en Trujillo. ¡Una oportunidad imperdible para celebrar tu éxito\, proyectar tus logros y prepararnos para un 2024 lleno de oportunidades! \nInvitados especiales:\n🔸 Jesús Trejo\, Vicepresidente Comercial de Sanki Global. \n📍 Lugar: El Gran Marques – Díaz de Cienfuegos 145\, La Merced Trujillo.\n⏰ Hora de Registro: 4:30 p.m.\n⏰ Hora de Inicio: 5:00 p.m. \nNo te quedes fuera\, ¡Te esperamos para compartir esta experiencia única! \n 
URL:https://www.equipodeinnovacion.com/event/gira-especial-trujillo/
ATTACH;FMTTYPE=image/jpeg:https://www.equipodeinnovacion.com/wp-content/uploads/2023/12/GIRAESPECIAL-TRUJILLO.jpeg
END:VEVENT
BEGIN:VEVENT
DTSTART;TZID=America/Lima:20231212T153000
DTEND;TZID=America/Lima:20231212T190000
DTSTAMP:20260425T014655
CREATED:20231214T200110Z
LAST-MODIFIED:20231214T200110Z
UID:4910-1702395000-1702407600@www.equipodeinnovacion.com
SUMMARY:GIRA ESPECIAL - CUZCO
DESCRIPTION:✨ ¡ATENCIÓN CUZCO! ✨ \nÚnete a la celebración y la inspiración mientras planificamos juntos los éxitos del próximo año. Marca en tu calendario el día martes 12 de diciembre para Gira Especial en Cuzco. ¡Una oportunidad imperdible para celebrar tu éxito\, proyectar tus logros y prepararnos para un 2024 lleno de oportunidades! \nInvitad especial:\n🔸 Jesús Trejo\, Vicepresidente Comercial de Sanki Global. \n📍 Lugar: Xima Hotel – Av. El Sol 1010\, Cusco\n⏰ Hora de Registro: 3:30 p.m.\n⏰ Hora de Inicio: 4:00 p.m. \nNo te quedes fuera\, ¡Te esperamos para compartir esta experiencia única! \nNota importante: Para participar debes SER Distribuidor Activo de Sanki. \n 
URL:https://www.equipodeinnovacion.com/event/gira-especial-cuzco/
ATTACH;FMTTYPE=image/jpeg:https://www.equipodeinnovacion.com/wp-content/uploads/2023/12/GIRAESPECIAL-CUZCO.jpeg
END:VEVENT
BEGIN:VEVENT
DTSTART;TZID=America/Lima:20231211T200000
DTEND;TZID=America/Lima:20231211T210000
DTSTAMP:20260425T014655
CREATED:20231214T195113Z
LAST-MODIFIED:20231214T195113Z
UID:4907-1702324800-1702328400@www.equipodeinnovacion.com
SUMMARY:GALA DE RECONOCIMIENTOS
DESCRIPTION:ENTRENAMIENTO VIRTUAL\n¡GALA DE RECONOCIMIENTOS! \nEste lunes 11 de diciembre celebraremos los logros y el éxito de nuestros líderes. \n¡Te esperamos con tu equipo! \nConduce:\nJulián Chica\, Gerente Regional de Gestión de Campo. \nFabiola Hernández\, Gerente de Gestión de Campo. \n🗓️ Fecha:\nLunes 11 de diciembre de 2023. \n⏰ Hora:\n🇺🇸 5:00 pm (PST)\n🇲🇽 7:00 pm (MT)\n🇨🇴 8:00 pm (CST)\n🇵🇪 8:00 pm (EST) \n🔗 Enlace de conexión: https://zoom.us/j/98948939375 \n 
URL:https://www.equipodeinnovacion.com/event/gala-reconocimientos-12-2023/
ATTACH;FMTTYPE=image/jpeg:https://www.equipodeinnovacion.com/wp-content/uploads/2023/12/GALADERECOCONICIEMIENTOS.jpeg
END:VEVENT
BEGIN:VEVENT
DTSTART;TZID=America/Lima:20231209T100000
DTEND;TZID=America/Lima:20231209T110000
DTSTAMP:20260425T014655
CREATED:20231214T194717Z
LAST-MODIFIED:20231214T194717Z
UID:4904-1702116000-1702119600@www.equipodeinnovacion.com
SUMMARY:LA IMPORTANCIA DE MANTENERNOS HIDRATADOS
DESCRIPTION:¿Sabías que la clave para un cuerpo sano está en mantenerse hidratado? 💧 Únete a nuestra conferencia virtual gratuita y descubre la importancia vital de mantener niveles óptimos de hidratación. Conoce los beneficios y secretos para una vida más saludable. ¡No te pierdas esta oportunidad de aprender y mejorar tu bienestar! 🌟 \n🗓️ Fecha: 09 de diciembre de 2023\n🕙 Hora: 10:00 am PE \n👉 Conéctate aquí: https://zoom.us/j/98786329831 \n¡Te esperamos! 👩‍💻 \n 
URL:https://www.equipodeinnovacion.com/event/hidratacion-importancia/
ATTACH;FMTTYPE=image/jpeg:https://www.equipodeinnovacion.com/wp-content/uploads/2023/12/LAIMPORTANCIADEMANTENERNOSHIDRATADOS.jpeg
END:VEVENT
BEGIN:VEVENT
DTSTART;TZID=America/Lima:20231207T210000
DTEND;TZID=America/Lima:20231207T220000
DTSTAMP:20260425T014655
CREATED:20231214T201153Z
LAST-MODIFIED:20231214T201153Z
UID:4916-1701982800-1701986400@www.equipodeinnovacion.com
SUMMARY:LONGEVO Y SALUDABLE
DESCRIPTION:JUEVES 07 DE DICIEMBRE 2023 \nSESIÓN DE SALUD 🇱 🇴 🇳 🇬 🇪 🇻 🇴  🇾  🇸 🇦 🇱 🇺 🇩 🇦 🇧 🇱 🇪  ¿🇨 🇴 🇲 🇴 ?. ᏟϴΝϴᏟᎬ ᏢϴᎡ ϘႮᎬ́ ᎬΝҒᎬᎡᎷᎪᎷϴՏ… \nPresenta: 🅳🆁. 🅰️🅻🅴🆇 🅱️🅴🆁🆁🅰️ Medico \n🇿 🇴 🇴 🇲 \n9:00 PM Peru🇵🇪 \n8:00 PM México 🇲🇽 \nUnirse a la reunión Zoomhttps://us02web.zoom.us/j/82175984454?pwd=R3pSWHM3czhOVkJ5OFBjZWdnd1Jodz09 \nID de reunión: 821 7598 4454 \nCódigo de acceso: 798577 \n«La Salud\, es el principal activo que debemos cuidar» \n 
URL:https://www.equipodeinnovacion.com/event/longevo-y-saludable/
ATTACH;FMTTYPE=image/jpeg:https://www.equipodeinnovacion.com/wp-content/uploads/2023/12/LONGEVOYSALUSABLE.jpeg
END:VEVENT
BEGIN:VEVENT
DTSTART;TZID=America/Lima:20231202T100000
DTEND;TZID=America/Lima:20231202T110000
DTSTAMP:20260425T014655
CREATED:20231214T194159Z
LAST-MODIFIED:20231214T194159Z
UID:4901-1701511200-1701514800@www.equipodeinnovacion.com
SUMMARY:ALIMENTACIÓN Y RIESGO CARDIOVASCULAR
DESCRIPTION:📢🔬🥦 Te invitamos a nuestra conferencia virtual gratuita sobre la relación entre la alimentación y el riesgo cardiovascular\, dirigida por Carla Unocc\, experta en Nutrición. Aprende cómo tu alimentación puede ser clave en la prevención de enfermedades cardiovasculares. 🍎💪 No te pierdas esta oportunidad de conocer más sobre tu salud y bienestar a través de la nutrición. 💚 \nFecha: 02 de diciembre de 2023 \nHora: 10:00 am \n👉 Conéctate aquí: https://zoom.us/j/98786329831 \n¡Te esperamos! 👩‍💻 \n 
URL:https://www.equipodeinnovacion.com/event/alimentacion-y-riesgo-cardiovascular/
ATTACH;FMTTYPE=image/jpeg:https://www.equipodeinnovacion.com/wp-content/uploads/2023/12/ALIMENTACIONYRIESGOCARDIOVASCULAR.jpeg
END:VEVENT
BEGIN:VEVENT
DTSTART;TZID=America/Lima:20231202T080000
DTEND;TZID=America/Lima:20231202T090000
DTSTAMP:20260425T014655
CREATED:20231214T193705Z
LAST-MODIFIED:20231214T193914Z
UID:4897-1701504000-1701507600@www.equipodeinnovacion.com
SUMMARY:NUTRICIÓN Y LONGEVIDAD
DESCRIPTION:¡PERÚ Y COLOMBIA EN CONEXIÓN! \nÚnete este sábado\, 2 de diciembre\, a nuestra sesión especial sobre Nutrición y Longevidad con Sanki. Descubre cómo potenciar la gestión de tu negocio con la poderosa tecnología de Sanki\, al mismo tiempo que alcanzas un estilo de vida más saludable. Aprovecha nuestro respaldo en innovación\, investigación y desarrollo para potenciar el crecimiento exponencial de tu liderazgo. \nAnfitrión:\nOlimpia Montes\, Directora Comercial de Sanki Perú. \nInvitada especial:\nLaura Valdez\, Especialista en Nutrición. \n📅 Fecha:\nSábado 02 de diciembre de 2023. \n⏰ Hora:\n🇵🇪 🇨🇴8:00 am (CST) (EST) \n✅ Link de conexión: https://us06web.zoom.us/j/87398581675 \n¡No dejes pasar esta oportunidad única para aprender y crecer! \n 
URL:https://www.equipodeinnovacion.com/event/nutricion-y-longevidad/
ATTACH;FMTTYPE=image/jpeg:https://www.equipodeinnovacion.com/wp-content/uploads/2023/12/NUTRICIONYLONGEVIDAD.jpeg
END:VEVENT
BEGIN:VEVENT
DTSTART;TZID=America/Lima:20231124T210000
DTEND;TZID=America/Lima:20231124T220000
DTSTAMP:20260425T014655
CREATED:20231124T183543Z
LAST-MODIFIED:20231124T183543Z
UID:4893-1700859600-1700863200@www.equipodeinnovacion.com
SUMMARY:CAPACITACIÓN DE ARRANQUE RÁPIDO
DESCRIPTION:Conéctate a este entrenamiento básico pero elemental\, para Distribuidores nuevos y no tan nuevos…\n🇦 🇷 🇷 🇦 🇳 🇶 🇺 🇪  🇷 🇦 ́🇵 🇮 🇩 🇴 \nViernes 24 de noviembre 2023\n8:00 PM Hrs Mex 🇲🇽\n9:00 PM Hrs Perú 🇵🇪\n9:00 PM Hrs Colombia 🇨🇴 \nEntrar Zoom Reunión\nhttps://us02web.zoom.us/j/83720229043?pwd=b2g4L1o1QWZ4K2RNVGoyTHNuSUhVZz09 \nID de reunión: 837 2022 9043\nCódigo de acceso: 908322 \nEl éxito no es hacer 5000 cosas diferentes\, sino 5000 veces una sola! \n 
URL:https://www.equipodeinnovacion.com/event/cap-arranque-24nov/
ATTACH;FMTTYPE=image/png:https://www.equipodeinnovacion.com/wp-content/uploads/2023/11/capacitacion.png
END:VEVENT
BEGIN:VEVENT
DTSTART;TZID=America/Lima:20231123T210000
DTEND;TZID=America/Lima:20231123T220000
DTSTAMP:20260425T014655
CREATED:20231123T160015Z
LAST-MODIFIED:20231123T160015Z
UID:4890-1700773200-1700776800@www.equipodeinnovacion.com
SUMMARY:SESIÓN DE SALUD - LONGEVO Y SALUDABLE\, ¿CÓMO?
DESCRIPTION:JUEVES 23 de noviembre 2023 \nSESIÓN DE SALUD \n🇱 🇴 🇳 🇬 🇪 🇻 🇴  🇾  🇸 🇦 🇱 🇺 🇩 🇦 🇧 🇱 🇪  ¿🇨 🇴 🇲 🇴 ?.\nᏟϴΝϴᏟᎬ ᏢϴᎡ ϘႮᎬ́ ᎬΝҒᎬᎡᎷᎪᎷϴՏ… \nPresenta:\n🅳🆁. 🅰🅻🅴🆇 🅱🅴🆁🆁🅰\nMedico \n🇿 🇴 🇴 🇲 \n9:00 PM Peru🇵🇪\n8:00 PM México 🇲🇽\nUnirse a la reunión Zoom\nhttps://us02web.zoom.us/j/82175984454?pwd=R3pSWHM3czhOVkJ5OFBjZWdnd1Jodz09 \nID de reunión: 821 7598 4454\nCódigo de acceso: 798577 \n«La Salud\, es el principal activo que debemos cuidar» \n 
URL:https://www.equipodeinnovacion.com/event/longevo-y-saludable-23nov/
ATTACH;FMTTYPE=image/png:https://www.equipodeinnovacion.com/wp-content/uploads/2023/11/SALUD.png
END:VEVENT
BEGIN:VEVENT
DTSTART;TZID=America/Lima:20231121T210000
DTEND;TZID=America/Lima:20231121T220000
DTSTAMP:20260425T014655
CREATED:20231121T045104Z
LAST-MODIFIED:20231121T045104Z
UID:4885-1700600400-1700604000@www.equipodeinnovacion.com
SUMMARY:EMPRENDE - Oportunidad Empresarial
DESCRIPTION:👉🏻 Te invito a conocer una OPORTUNIDAD para cambiar tu vida y de las personas que te rodean…\nPresentan:\n🅁🄰🄺🄴🄻 🄰🄼🄰🅈🄰 Comunicadora Social \n🄰🄻🄴🅇 🄱🄴🅁🅁🄰\nMedico Empresario. \nMartes 14 de noviembre de 2023\n8:00 PM Hrs Mex 🇲🇽\n9:00 PM Hrs Perú 🇵🇪\n9:00 PM Hrs Colombia 🇨🇴\nUnirse a la reunión 🇿 🇴 🇴 🇲\nhttps://us02web.zoom.us/j/87838885802?pwd=d0xNWnBqeFpoNTh5S2F3bFJEMzJsZz09 \nID de reunión: 878 3888 5802\nCódigo de acceso: 762037\nConecta a la Mayor cantidad de personas \n 
URL:https://www.equipodeinnovacion.com/event/emprende-oportunidad-empresarial/
ATTACH;FMTTYPE=image/jpeg:https://www.equipodeinnovacion.com/wp-content/uploads/2023/11/Imagen-de-WhatsApp-2023-11-20-a-las-22.36.51_227a86da.jpg
END:VEVENT
BEGIN:VEVENT
DTSTART;TZID=America/Lima:20231120T200000
DTEND;TZID=America/Lima:20231120T210000
DTSTAMP:20260425T014655
CREATED:20231120T182447Z
LAST-MODIFIED:20231120T182447Z
UID:4881-1700510400-1700514000@www.equipodeinnovacion.com
SUMMARY:ÉTICA Y MORAL: IMPULSA TU NEGOCIO CON FUNDAMENTOS Y PILARES SÓLIDOS
DESCRIPTION:ÉTICA Y MORAL: IMPULSA TU NEGOCIO CON FUNDAMENTOS Y PILARES SÓLIDOS \nÚnete a nosotros HOY en una sesión especial dedicada a explorar la importancia de la ética y la moral como pilares fundamentales para el éxito en tu negocio. Descubre cómo estos valores esenciales pueden impulsar tu negocio\, maximizar tus estrategias y establecer cimientos sólidos. Aprenderás la relevancia de la ética en la toma de decisiones y cómo la moralidad puede marcar la diferencia en el mundo de los negocios. \n🗓️ Fecha:\nLunes 20 de noviembre de 2023. \n⏰ Hora:\n🇺🇸 5:00 pm (PST)\n🇲🇽 7:00 pm (MT)\n🇨🇴 8:00 pm (CST)\n🇵🇪 8:00 pm (EST) \n🔗 Enlace de conexión: https://zoom.us/j/98948939375 \n 
URL:https://www.equipodeinnovacion.com/event/etica-moral-20nov/
END:VEVENT
BEGIN:VEVENT
DTSTART;TZID=America/Lima:20231118T080000
DTEND;TZID=America/Lima:20231118T090000
DTSTAMP:20260425T014655
CREATED:20231117T182627Z
LAST-MODIFIED:20231117T182627Z
UID:4878-1700294400-1700298000@www.equipodeinnovacion.com
SUMMARY:PERÚ EN CONEXIÓN
DESCRIPTION:📣 ✨ PERÚ EN CONEXIÓN\, ¡CERRAMOS EL AÑO JUNTOS! \nPrepárate para una experiencia transformadora este sábado 18 de noviembre a las 8:00 am ⏰ Únete a nosotros en una Sesión Especial Online\, obtén información exclusiva sobre porque Sanki es la compañía DE la longevidad y descubre cómo alcanzar tus metas y asegurar tu éxito en el próximo año. Contaremos con la presencia especial de Angélica Puentes\, Country Manager de Sanki Colombia y Perú\, y Jesús Trejo\, Vicepresidente Comercial de Sanki Global. 🌟 \n✅ Link de conexión: https://us06web.zoom.us/j/87398581675 \n 
URL:https://www.equipodeinnovacion.com/event/peru-en-conexion-18nov/
ATTACH;FMTTYPE=image/jpeg:https://www.equipodeinnovacion.com/wp-content/uploads/2023/11/peruenconexion18nov.jpeg
END:VEVENT
BEGIN:VEVENT
DTSTART;TZID=America/Lima:20231116T210000
DTEND;TZID=America/Lima:20231116T220000
DTSTAMP:20260425T014655
CREATED:20231117T182010Z
LAST-MODIFIED:20231117T182010Z
UID:4875-1700168400-1700172000@www.equipodeinnovacion.com
SUMMARY:Conoce POR QUÉ enfermas
DESCRIPTION:JUEVES 16 de noviembre 2023\nSESIÓN DE SALUD \n🇱 🇴 🇳 🇬 🇪 🇻 🇴  🇾  🇸 🇦 🇱 🇺 🇩 🇦 🇧 🇱 🇪  ¿🇨 🇴 🇲 🇴 ?.\nᏟϴΝϴᏟᎬ ᏢϴᎡ ϘႮᎬ́ ᎬΝҒᎬᎡᎷᎪᎷϴՏ… \nPresenta:\n🅳🆁. 🅰🅻🅴🆇 🅱🅴🆁🆁🅰\nMedico \n🇿 🇴 🇴 🇲\n9:00 PM Peru🇵🇪\n8:00 PM México 🇲🇽\nUnirse a la reunión Zoom\nhttps://us02web.zoom.us/j/82175984454?pwd=R3pSWHM3czhOVkJ5OFBjZWdnd1Jodz09 \nID de reunión: 821 7598 4454\nCódigo de acceso: 798577\n«La Salud\, es el principal activo que debemos cuidar» \n 
URL:https://www.equipodeinnovacion.com/event/conoce-por-que-enfermas/
ATTACH;FMTTYPE=image/jpeg:https://www.equipodeinnovacion.com/wp-content/uploads/2023/11/SESIONSALUD.jpeg
END:VEVENT
BEGIN:VEVENT
DTSTART;TZID=America/Lima:20231115T210000
DTEND;TZID=America/Lima:20231115T220000
DTSTAMP:20260425T014655
CREATED:20231115T234538Z
LAST-MODIFIED:20231115T234538Z
UID:4870-1700082000-1700085600@www.equipodeinnovacion.com
SUMMARY:ARRANCA tu negocio - CONOCE nuestro sistema
DESCRIPTION:Conéctate a este entrenamiento básico pero elemental\, para Distribuidores nuevos y no tan nuevos…\n🇦 🇷 🇷 🇦 🇳 🇶 🇺 🇪  🇷 🇦 ́🇵 🇮 🇩 🇴 \nMiércoles 15 de noviembre 2023\n8:00 PM Hrs Mex 🇲🇽\n9:00 PM Hrs Perú 🇵🇪\n9:00 PM Hrs Colombia 🇨🇴 \nEntrar Zoom Reunión\nhttps://us02web.zoom.us/j/83720229043?pwd=b2g4L1o1QWZ4K2RNVGoyTHNuSUhVZz09 \nID de reunión: 837 2022 9043\nCódigo de acceso: 908322 \nEl éxito no es hacer 5000 cosas diferentes\, sino 5000 veces una sola… \n 
URL:https://www.equipodeinnovacion.com/event/aranque-15-nov/
ATTACH;FMTTYPE=image/jpeg:https://www.equipodeinnovacion.com/wp-content/uploads/2023/11/arranque.jpeg
END:VEVENT
BEGIN:VEVENT
DTSTART;TZID=America/Lima:20231114T210000
DTEND;TZID=America/Lima:20231114T220000
DTSTAMP:20260425T014655
CREATED:20231114T164005Z
LAST-MODIFIED:20231114T164005Z
UID:4865-1699995600-1699999200@www.equipodeinnovacion.com
SUMMARY:EMPRENDE - Oportunidad Empresarial
DESCRIPTION:👉🏻 Te invito a conocer una OPORTUNIDAD para cambiar tu vida y de las personas que te rodean…\nPresentan:\n🅁🄰🄺🄴🄻 🄰🄼🄰🅈🄰 Comunicadora Social \n🄰🄻🄴🅇 🄱🄴🅁🅁🄰\nMedico Empresario. \nMartes 14 de noviembre de 2023\n8:00 PM Hrs Mex 🇲🇽\n9:00 PM Hrs Perú 🇵🇪\n9:00 PM Hrs Colombia 🇨🇴\nUnirse a la reunión 🇿 🇴 🇴 🇲\nhttps://us02web.zoom.us/j/87838885802?pwd=d0xNWnBqeFpoNTh5S2F3bFJEMzJsZz09 \nID de reunión: 878 3888 5802\nCódigo de acceso: 762037\nConecta a la Mayor cantidad de personas \n 
URL:https://www.equipodeinnovacion.com/event/14nov-emprende-oportunidad-empresarial/
ATTACH;FMTTYPE=image/jpeg:https://www.equipodeinnovacion.com/wp-content/uploads/2023/11/OE-14-NOV.jpeg
END:VEVENT
BEGIN:VEVENT
DTSTART;TZID=America/Lima:20231113T200000
DTEND;TZID=America/Lima:20231113T210000
DTSTAMP:20260425T014655
CREATED:20231113T223055Z
LAST-MODIFIED:20231113T223055Z
UID:4861-1699905600-1699909200@www.equipodeinnovacion.com
SUMMARY:VAMOS A CANCÚN!
DESCRIPTION:¡VAMOS JUNTOS A LAS PLAYAS DE CANCÚN CON EL SISTEMA DE LIDERAZGO SANKI 2X2! 🚀 \n¡PREPÁRATE PARA UNA EXPERIENCIA ÚNICA! 🌴 Únete HOY a nuestra Sesión Virtual Online a cargo de Fabiola Hernández\, Gerente de Gestión de Campo. Descubre cómo el Sistema de Liderazgo Sanki 2×2 puede llevarte a las hermosas playas de Cancún. Asegura tu cupo cumpliendo los requisitos y disfruta de unas vacaciones inolvidables. \n🗓️Fecha:\nLunes 13 de noviembre de 2023. \n⏰ Hora:\n🇺🇸6:00 pm (PST)\n🇲🇽7:00 pm (MT)\n🇨🇴8:00 pm (CST)\n🇵🇪8:00 pm (EST) \n🔗 Link de conexión: https://sge.st/yTRP4k7 \n¡Sanki es para todos y las playas de Cancún también! 🚀🏖️ \n \n 
URL:https://www.equipodeinnovacion.com/event/vamos-a-cancun/
ATTACH;FMTTYPE=image/jpeg:https://www.equipodeinnovacion.com/wp-content/uploads/2023/11/VAMOSACANCUN.jpeg
END:VEVENT
BEGIN:VEVENT
DTSTART;TZID=America/Lima:20231111T100000
DTEND;TZID=America/Lima:20231111T110000
DTSTAMP:20260425T014655
CREATED:20230711T034930Z
LAST-MODIFIED:20231111T021457Z
UID:4597-1699696800-1699700400@www.equipodeinnovacion.com
SUMMARY:CONFERENCIA VIRTUAL - DIETAS MEDITERRÁNEAS
DESCRIPTION:¡Conferencia virtual gratis! 🍽️🌿 Dietas Mediterráneas: Pieza Fundamental del ANTIAGING \n10:00AM HORA PERÚ / 11 NOV 2023 \nTe invitamos a nuestra conferencia virtual gratuita para que conozcas de primera mano cómo las Dietas Mediterráneas son una Pieza Fundamental del ANTIAGING «Anti envejecimiento». \nAcompaña a nuestra invitada especial\, Laura Valdez; Especialista en Nutrición. \nDescubre cómo esta alimentación impulsa tu salud y bienestar\, ayudándote a alcanzar tu mejor versión. 🌟 \n👉 Conéctate aquí: https://zoom.us/j/98786329831 \n¡Te esperamos! 👩‍💻
URL:https://www.equipodeinnovacion.com/event/dietas-mediterraneas/
ATTACH;FMTTYPE=image/jpeg:https://www.equipodeinnovacion.com/wp-content/uploads/2023/07/DIETAS-MEDITERRANEAS-LV.jpeg
END:VEVENT
BEGIN:VEVENT
DTSTART;TZID=America/Lima:20231109T210000
DTEND;TZID=America/Lima:20231109T220000
DTSTAMP:20260425T014655
CREATED:20230711T040041Z
LAST-MODIFIED:20231109T053823Z
UID:4603-1699563600-1699567200@www.equipodeinnovacion.com
SUMMARY:SESIÓN DE SALUD - EL SECRETO DE LA LONGEVIDAD
DESCRIPTION:JUEVES 09 de noviembre 2023 \nSESIÓN DE SALUD\nᏟϴΝϴᏟᎬ ᎬᏞ ՏᎬᏟᎡᎬͲϴ ᎠᎬ ᏞᎪ ᏞϴΝᏀᎬᏙᏆᎠᎪᎠ y cómo mejorar tu Salud. \n9:00 PM Peru🇵🇪\n8:00 PM México 🇲🇽\nUnirse a la reunión Zoom\nhttps://us02web.zoom.us/j/82175984454?pwd=R3pSWHM3czhOVkJ5OFBjZWdnd1Jodz09 \nID de reunión: 821 7598 4454\nCódigo de acceso: 798577 \n«La Salud\, es el principal activo que debemos cuidar»
URL:https://www.equipodeinnovacion.com/event/sesion-salud-longevidad/
ATTACH;FMTTYPE=image/jpeg:https://www.equipodeinnovacion.com/wp-content/uploads/2023/07/SESION-SALUD-BERRA.jpeg
END:VEVENT
BEGIN:VEVENT
DTSTART;TZID=America/Lima:20231108T210000
DTEND;TZID=America/Lima:20231108T220000
DTSTAMP:20260425T014655
CREATED:20230711T053409Z
LAST-MODIFIED:20231109T012256Z
UID:4626-1699477200-1699480800@www.equipodeinnovacion.com
SUMMARY:ARRANQUE RÁPIDO
DESCRIPTION:Conéctate a este entrenamiento básico pero elemental\, para Distribuidores nuevos y no tan nuevos…\n🇦 🇷 🇷 🇦 🇳 🇶 🇺 🇪  🇷 🇦 ́🇵 🇮 🇩 🇴  🇩 🇪  🇹 🇺  🇳 🇪 🇬 🇴 🇨 🇮 🇴 \n🅼🅰🆁🆃🅸́🅽 🅵🅴🆁🅽🅰́🅽🅳🅴🆉\nDiamante Sanki \nMiércoles 8 de noviembre 2023 \n8:00 PM Hrs Mex 🇲🇽\n9:00 PM Hrs Perú 🇵🇪\n9:00 PM Hrs Colombia 🇨🇴 \nEntrar Zoom Reunión\nhttps://us02web.zoom.us/j/83720229043?pwd=b2g4L1o1QWZ4K2RNVGoyTHNuSUhVZz09 \nID de reunión: 837 2022 9043\nCódigo de acceso: 908322 \nParte del éxito en tu negocio está en ser el mejor promotor y conectar a la mayor cantidad de personas a la oportunidad
URL:https://www.equipodeinnovacion.com/event/arranque-rapido-martin/
ATTACH;FMTTYPE=image/jpeg:https://www.equipodeinnovacion.com/wp-content/uploads/2023/07/ARDTN-MARTIN.jpeg
END:VEVENT
BEGIN:VEVENT
DTSTART;TZID=America/Lima:20231107T210000
DTEND;TZID=America/Lima:20231107T220000
DTSTAMP:20260425T014655
CREATED:20230711T040918Z
LAST-MODIFIED:20231107T045929Z
UID:4607-1699390800-1699394400@www.equipodeinnovacion.com
SUMMARY:EMPRENDE y GANA VIAJE A CANCÚN
DESCRIPTION:Este MARTES 9PM (Hora Perú) 👉🏻 Conéctate y conoce a detalle qué puedes ganar al Emprender con sistema\nEMPRENDE y GANA un VIAJE a CANCÚN y MÁS. \nZOOM\nhttps://us02web.zoom.us/j/87838885802?pwd=d0xNWnBqeFpoNTh5S2F3bFJEMzJsZz09\nID de reunión: 878 3888 5802\nCódigo de acceso: 762037\nConecta a tu equipo! \n \n 
URL:https://www.equipodeinnovacion.com/event/emprende-viaje-cancun/
ATTACH;FMTTYPE=image/jpeg:https://www.equipodeinnovacion.com/wp-content/uploads/2023/07/WhatsApp-Image-2023-11-06-at-23.27.42.jpeg
END:VEVENT
BEGIN:VEVENT
DTSTART;TZID=America/Lima:20231107T200000
DTEND;TZID=America/Lima:20231107T210000
DTSTAMP:20260425T014655
CREATED:20230711T051221Z
LAST-MODIFIED:20231107T050416Z
UID:4613-1699387200-1699390800@www.equipodeinnovacion.com
SUMMARY:Presentación de oportunidad
DESCRIPTION:MARTES 8:00PM / HORA PERÚ 🇵🇪 El próximo en transformar su vida puedes ser tu…\n⬇️⬇️⬇️⬇️⬇️⬇️ \nID de reunión: 769 602 0497 \n𝐂𝐨𝐧𝐞𝐜𝐭𝐚𝐭𝐞 𝐞𝐧 𝐞𝐥 𝐬𝐢𝐠𝐮𝐢𝐞𝐧𝐭𝐞 𝐞𝐧𝐥𝐚𝐜𝐞: \nhttps://us02web.zoom.us/j/7696020497?pwd=YmdJVGpLNFQ5R0ZKS0pvWlZQRzcxdz09
URL:https://www.equipodeinnovacion.com/event/presentacion-de-oportunidad/
ATTACH;FMTTYPE=image/jpeg:https://www.equipodeinnovacion.com/wp-content/uploads/2023/07/WhatsApp-Image-2023-11-06-at-22.50.10.jpeg
END:VEVENT
BEGIN:VEVENT
DTSTART;TZID=UTC:20231020T190000
DTEND;TZID=UTC:20231020T190000
DTSTAMP:20260425T014655
CREATED:20231009T204350Z
LAST-MODIFIED:20231017T160618Z
UID:4818-1697828400-1697828400@www.equipodeinnovacion.com
SUMMARY:Mentoría Exclusiva para distribuidores
DESCRIPTION:Mentoría con Raquel Amaya
URL:https://www.equipodeinnovacion.com/event/mentoria-exclusiva-para-distribuidores/
END:VEVENT
BEGIN:VEVENT
DTSTART;TZID=UTC:20231019T200000
DTEND;TZID=UTC:20231019T210000
DTSTAMP:20260425T014655
CREATED:20230711T052722Z
LAST-MODIFIED:20231017T160559Z
UID:4621-1697745600-1697749200@www.equipodeinnovacion.com
SUMMARY:Presentación de Salud
DESCRIPTION:Presentación de salud con el Dr. Alex Berra \nHora CDMX
URL:https://www.equipodeinnovacion.com/event/presentacion-de-salud/
END:VEVENT
BEGIN:VEVENT
DTSTART;TZID=America/Mexico_City:20231018T210000
DTEND;TZID=America/Mexico_City:20231018T213000
DTSTAMP:20260425T014655
CREATED:20230223T231121Z
LAST-MODIFIED:20231017T160539Z
UID:4133-1697662800-1697664600@www.equipodeinnovacion.com
SUMMARY:Capacitacion para los nuevos
DESCRIPTION:  \nPresentación de oportunidad de negocios con Martín Fernández \n 
URL:https://www.equipodeinnovacion.com/event/capacitacion-formas-de-ganar-en-sanki-con-el-ing-sergio-de-la-cruz/
ATTACH;FMTTYPE=image/jpeg:https://www.equipodeinnovacion.com/wp-content/uploads/2021/09/lunes.jpg
END:VEVENT
BEGIN:VEVENT
DTSTART;TZID=America/Mexico_City:20231018T190000
DTEND;TZID=America/Mexico_City:20231018T210000
DTSTAMP:20260425T014655
CREATED:20230711T035748Z
LAST-MODIFIED:20231017T160520Z
UID:4600-1697655600-1697662800@www.equipodeinnovacion.com
SUMMARY:Presentación de oportunidad corporativa
DESCRIPTION:Presentación de oportunidad corporativa \nInvitada raquel amaya \n  \n 
URL:https://www.equipodeinnovacion.com/event/presentacion-de-oportunidad-con-raquel-amaya/
END:VEVENT
BEGIN:VEVENT
DTSTART;TZID=America/Mexico_City:20231016T190000
DTEND;TZID=America/Mexico_City:20231016T190000
DTSTAMP:20260425T014655
CREATED:20230828T221508Z
LAST-MODIFIED:20231017T160120Z
UID:4757-1697482800-1697482800@www.equipodeinnovacion.com
SUMMARY:Capacitacion con el licenciado Gert Muller
DESCRIPTION:Aprende a como conectar e invitar \nhttps://zoom.us/j/98948939375 \n  \n 
URL:https://www.equipodeinnovacion.com/event/capacitacion-con-el-licenciado-gert-muller/
ATTACH;FMTTYPE=image/jpeg:https://www.equipodeinnovacion.com/wp-content/uploads/2023/08/371355389_620348363603020_6287614680776215799_n.jpg
END:VEVENT
BEGIN:VEVENT
DTSTART;TZID=UTC:20230912T200000
DTEND;TZID=UTC:20230912T210000
DTSTAMP:20260425T014655
CREATED:20230909T173123Z
LAST-MODIFIED:20230909T180745Z
UID:4779-1694548800-1694552400@www.equipodeinnovacion.com
SUMMARY:Sesión presencial Balance hormonal con el Dr. David Alcántar
DESCRIPTION:Sesión presencial en Guadalajara \nBalance hormonal
URL:https://www.equipodeinnovacion.com/event/sesion-presencial-balance-hormonal/
CATEGORIES:AgendaMédica
END:VEVENT
BEGIN:VEVENT
DTSTART;TZID=America/Mexico_City:20230904T090000
DTEND;TZID=America/Mexico_City:20230904T213000
DTSTAMP:20260425T014655
CREATED:20230711T042248Z
LAST-MODIFIED:20230828T211457Z
UID:4611-1693818000-1693863000@www.equipodeinnovacion.com
SUMMARY:Presentación de oportunidad de negocios con el ing. Sergio de la Cruz
DESCRIPTION:https://us02web.zoom.us/j/87695694079?pwd=NVJTWlQrcWpwN21CTTh5SmhtaXZwQT09 \nPresentación de oportunidad de negocios con el Ing. Sergio de la Cruz \n  \n  \n 
URL:https://www.equipodeinnovacion.com/event/presentacion-de-oportunidad-de-negocios-con-el-ing-sergio-de-la-cruz-3/
END:VEVENT
BEGIN:VEVENT
DTSTART;TZID=UTC:20230831T200000
DTEND;TZID=UTC:20230831T210000
DTSTAMP:20260425T014655
CREATED:20230711T051617Z
LAST-MODIFIED:20230828T211836Z
UID:4615-1693512000-1693515600@www.equipodeinnovacion.com
SUMMARY:PRESENTA SALUD
DESCRIPTION:Presentación de salud \nHora CDMX
URL:https://www.equipodeinnovacion.com/event/presenta-salud-2/
END:VEVENT
END:VCALENDAR